BEGIN:VCALENDAR
VERSION:2.0
PRODID:-//LFKBMO - ECPv4.6.24.1//NONSGML v1.0//EN
CALSCALE:GREGORIAN
METHOD:PUBLISH
X-WR-CALNAME:LFKBMO
X-ORIGINAL-URL:https://www.lfkbmo.com
X-WR-CALDESC:Évènements pour LFKBMO
BEGIN:VEVENT
DTSTART;VALUE=DATE:20230311
DTEND;VALUE=DATE:20230312
DTSTAMP:20260422T133458
CREATED:20221206T121232Z
LAST-MODIFIED:20221206T121232Z
UID:3898-1678492800-1678579199@www.lfkbmo.com
SUMMARY:Gala A
DESCRIPTION:Pesée de la veille : Oui\nHeure de la pesée : 18h00\nHeure du gala : 19h30 \n
URL:https://www.lfkbmo.com/event/gala-a-50/
LOCATION:Beyne-heusay\, Rue du heusay 19\, beyne heusay\, 4610
CATEGORIES:Galas
END:VEVENT
END:VCALENDAR