BEGIN:VCALENDAR
VERSION:2.0
PRODID:-//LFKBMO - ECPv4.6.24.1//NONSGML v1.0//EN
CALSCALE:GREGORIAN
METHOD:PUBLISH
X-WR-CALNAME:LFKBMO
X-ORIGINAL-URL:https://www.lfkbmo.com
X-WR-CALDESC:Évènements pour LFKBMO
BEGIN:VEVENT
DTSTART;VALUE=DATE:20210313
DTEND;VALUE=DATE:20210314
DTSTAMP:20260422T105552
CREATED:20190923T082138Z
LAST-MODIFIED:20210224T100936Z
UID:2056-1615593600-1615679999@www.lfkbmo.com
SUMMARY:Gala A - Glorious Fight 4 - ANNULE COVID-19
DESCRIPTION:
URL:https://www.lfkbmo.com/event/gala-a-glorious-fight-4/
LOCATION:Loncin\, Rue des Charrons 17\, Loncin\, 4431\, Belgique
CATEGORIES:Galas
ORGANIZER;CN="Nathalie%20Toro":MAILTO:phoenix@nathalietoro.be
END:VEVENT
END:VCALENDAR