BEGIN:VCALENDAR
VERSION:2.0
PRODID:-//LFKBMO - ECPv4.6.24.1//NONSGML v1.0//EN
CALSCALE:GREGORIAN
METHOD:PUBLISH
X-WR-CALNAME:LFKBMO
X-ORIGINAL-URL:https://www.lfkbmo.com
X-WR-CALDESC:Évènements pour LFKBMO
BEGIN:VEVENT
DTSTART;VALUE=DATE:20210316
DTEND;VALUE=DATE:20210317
DTSTAMP:20260422T110847
CREATED:20210316T102752Z
LAST-MODIFIED:20210512T085247Z
UID:2903-1615852800-1615939199@www.lfkbmo.com
SUMMARY:Gala C – ANNULE COVID-19
DESCRIPTION:Heure de pesée: 11h\nHeure du gala: 13h \n
URL:https://www.lfkbmo.com/event/gala-c-23/
LOCATION:Fight off\, avenue de gallilée\, Wavre\, Belgique
CATEGORIES:Galas
ORGANIZER;CN="Fight%20off":MAILTO:event@fight-off.com
END:VEVENT
END:VCALENDAR