BEGIN:VCALENDAR
VERSION:2.0
PRODID:-//LFKBMO - ECPv4.6.24.1//NONSGML v1.0//EN
CALSCALE:GREGORIAN
METHOD:PUBLISH
X-WR-CALNAME:LFKBMO
X-ORIGINAL-URL:https://www.lfkbmo.com
X-WR-CALDESC:Évènements pour LFKBMO
BEGIN:VEVENT
DTSTART;TZID=Europe/Paris:20200308T100000
DTEND;TZID=Europe/Paris:20200308T120000
DTSTAMP:20260425T114304
CREATED:20200103T085436Z
LAST-MODIFIED:20200221T090618Z
UID:2219-1583661600-1583668800@www.lfkbmo.com
SUMMARY:Niveau 2 - ceinture orange
DESCRIPTION:Examen: dimanche 8/3 de 10h à 12h à Wavre (Fight Off\, Avenue Galilée\, 4b à 1300 Wavre)\nInscription jusqu’au 1/3 via à la lien suivant: https://forms.gle/jqW5tG2CJP6tvE7i7  \nRemarque: Le nombre de participants adultes et enfants est limité. Une fois là limite atteinte\, les inscriptions se clôturent automatiquement. \n
URL:https://www.lfkbmo.com/event/niveau-2-ceinture-orange-2/
LOCATION:Fight off\, avenue de gallilée\, Wavre\, Belgique
CATEGORIES:Passage de grade
ATTACH;FMTTYPE=image/jpeg:https://www.lfkbmo.com/wp-content/uploads/2020/01/orange.jpg
ORGANIZER;CN="LFKBMO":MAILTO:info@lfkbmo.com
END:VEVENT
END:VCALENDAR