BEGIN:VCALENDAR
VERSION:2.0
PRODID:-//LFKBMO - ECPv4.6.24.1//NONSGML v1.0//EN
CALSCALE:GREGORIAN
METHOD:PUBLISH
X-WR-CALNAME:LFKBMO
X-ORIGINAL-URL:https://www.lfkbmo.com
X-WR-CALDESC:Évènements pour LFKBMO
BEGIN:VEVENT
DTSTART;VALUE=DATE:20210919
DTEND;VALUE=DATE:20210920
DTSTAMP:20260422T142340
CREATED:20210705T085956Z
LAST-MODIFIED:20210811T124622Z
UID:3034-1632009600-1632095999@www.lfkbmo.com
SUMMARY:Niveau 4-5-6
DESCRIPTION:Niveau 4 & 5 : 9h30 à 11h30\nNiveau 6 : 13h00 à 16h00 \n
URL:https://www.lfkbmo.com/event/pas-de-disponibilite/
LOCATION:Fight off\, avenue de gallilée\, Wavre\, Belgique
CATEGORIES:Galas,Passage de grade,Stages
ORGANIZER;CN="LFKBMO":MAILTO:info@lfkbmo.com
END:VEVENT
END:VCALENDAR