BEGIN:VCALENDAR
VERSION:2.0
PRODID:-//LFKBMO - ECPv4.6.24.1//NONSGML v1.0//EN
CALSCALE:GREGORIAN
METHOD:PUBLISH
X-WR-CALNAME:LFKBMO
X-ORIGINAL-URL:https://www.lfkbmo.com
X-WR-CALDESC:Évènements pour LFKBMO
BEGIN:VEVENT
DTSTART;VALUE=DATE:20200321
DTEND;VALUE=DATE:20200322
DTSTAMP:20260424T103117
CREATED:20200304T074811Z
LAST-MODIFIED:20200313T091507Z
UID:2459-1584748800-1584835199@www.lfkbmo.com
SUMMARY:Stage Emma Gongora- ANNULE COVID19
DESCRIPTION:
URL:https://www.lfkbmo.com/event/stage-emma-gongora/
LOCATION:Wanze\, 19 Rue Géo Warzée\, wanze\, 4520\, Belgique
CATEGORIES:Stages
ATTACH;FMTTYPE=image/jpeg:https://www.lfkbmo.com/wp-content/uploads/2020/03/88139484_1617475231724006_1484009126022348800_n.jpg
END:VEVENT
END:VCALENDAR